BEGIN:VCALENDAR
METHOD:PUBLISH
PRODID:-//github.com/rianjs/ical.net//NONSGML ical.net 4.0//EN
VERSION:2.0
BEGIN:VEVENT
DESCRIPTION:Kinobesuch im Filmpodium\n\nAu hasard Balthazar
DTEND:20260704T222000
DTSTAMP:20260422T094705Z
DTSTART:20260704T204500
LOCATION:Filmpodium\, Nüschelerstrasse 11\, 8001 Zürich
SEQUENCE:0
SUMMARY:Filmpodium - Au hasard Balthazar
UID:64a3c1f1-fec9-416d-be5e-e8cc5da91607
END:VEVENT
END:VCALENDAR
