BEGIN:VCALENDAR
METHOD:PUBLISH
PRODID:-//github.com/rianjs/ical.net//NONSGML ical.net 4.0//EN
VERSION:2.0
BEGIN:VEVENT
DESCRIPTION:Kinobesuch im Filmpodium\n\nA Confucian Confusion
DTEND:20260704T200500
DTSTAMP:20260422T094317Z
DTSTART:20260704T180000
LOCATION:Filmpodium\, Nüschelerstrasse 11\, 8001 Zürich
SEQUENCE:0
SUMMARY:Filmpodium - A Confucian Confusion
UID:4c48f417-59d8-49a5-b799-99280d266af6
END:VEVENT
END:VCALENDAR
