BEGIN:VCALENDAR
METHOD:PUBLISH
PRODID:-//github.com/rianjs/ical.net//NONSGML ical.net 4.0//EN
VERSION:2.0
BEGIN:VEVENT
DESCRIPTION:Kinobesuch im Filmpodium\n\nAfter the Tone
DTEND:20260702T195500
DTSTAMP:20260422T094920Z
DTSTART:20260702T183000
LOCATION:Filmpodium\, Nüschelerstrasse 11\, 8001 Zürich
SEQUENCE:0
SUMMARY:Filmpodium - After the Tone
UID:cfd8f6cd-8b03-400d-a9d4-eaf16f3e5f9b
END:VEVENT
END:VCALENDAR
