BEGIN:VCALENDAR
METHOD:PUBLISH
PRODID:-//github.com/rianjs/ical.net//NONSGML ical.net 4.0//EN
VERSION:2.0
BEGIN:VEVENT
DESCRIPTION:Kinobesuch im Filmpodium\n\nAu hasard Balthazar
DTEND:20260702T163500
DTSTAMP:20260422T095027Z
DTSTART:20260702T150000
LOCATION:Filmpodium\, Nüschelerstrasse 11\, 8001 Zürich
SEQUENCE:0
SUMMARY:Filmpodium - Au hasard Balthazar
UID:f922613d-b4b5-488c-ad69-6c213a1b6fcd
END:VEVENT
END:VCALENDAR
