BEGIN:VCALENDAR
METHOD:PUBLISH
PRODID:-//github.com/rianjs/ical.net//NONSGML ical.net 4.0//EN
VERSION:2.0
BEGIN:VEVENT
DESCRIPTION:Kinobesuch im Filmpodium\n\nAbove the Mountains
DTEND:20260629T201700
DTSTAMP:20260422T094956Z
DTSTART:20260629T183000
LOCATION:Filmpodium\, Nüschelerstrasse 11\, 8001 Zürich
SEQUENCE:0
SUMMARY:Filmpodium - Above the Mountains
UID:8d978d7f-a03e-4101-8108-2e4ec83bdc8e
END:VEVENT
END:VCALENDAR
