BEGIN:VCALENDAR
METHOD:PUBLISH
PRODID:-//github.com/rianjs/ical.net//NONSGML ical.net 4.0//EN
VERSION:2.0
BEGIN:VEVENT
DESCRIPTION:Kinobesuch im Filmpodium\n\nA Confucian Confusion
DTEND:20260625T170500
DTSTAMP:20260422T094506Z
DTSTART:20260625T150000
LOCATION:Filmpodium\, Nüschelerstrasse 11\, 8001 Zürich
SEQUENCE:0
SUMMARY:Filmpodium - A Confucian Confusion
UID:8d24f3f0-d357-44ec-b0cf-c7e45d6b8cf7
END:VEVENT
END:VCALENDAR
