BEGIN:VCALENDAR
METHOD:PUBLISH
PRODID:-//github.com/rianjs/ical.net//NONSGML ical.net 4.0//EN
VERSION:2.0
BEGIN:VEVENT
DESCRIPTION:Kinobesuch im Filmpodium\n\nA Brighter Summer Day
DTEND:20260618T222700
DTSTAMP:20260422T093957Z
DTSTART:20260618T183000
LOCATION:Filmpodium\, Nüschelerstrasse 11\, 8001 Zürich
SEQUENCE:0
SUMMARY:Filmpodium - A Brighter Summer Day
UID:4b5e84a3-f59b-4223-a263-aa263a9eabee
END:VEVENT
END:VCALENDAR
