BEGIN:VCALENDAR
METHOD:PUBLISH
PRODID:-//github.com/rianjs/ical.net//NONSGML ical.net 4.0//EN
VERSION:2.0
BEGIN:VEVENT
DESCRIPTION:Kinobesuch im Filmpodium\n\nAbove the Mountains
DTEND:20260617T223200
DTSTAMP:20260422T094653Z
DTSTART:20260617T204500
LOCATION:Filmpodium\, Nüschelerstrasse 11\, 8001 Zürich
SEQUENCE:0
SUMMARY:Filmpodium - Above the Mountains
UID:9d0a6605-942d-4b9d-ad9d-2dc4d6d4a115
END:VEVENT
END:VCALENDAR
