BEGIN:VCALENDAR
METHOD:PUBLISH
PRODID:-//github.com/rianjs/ical.net//NONSGML ical.net 4.0//EN
VERSION:2.0
BEGIN:VEVENT
DESCRIPTION:Kinobesuch im Filmpodium\n\nA Brighter Summer Day
DTEND:20260531T185700
DTSTAMP:20260422T094225Z
DTSTART:20260531T150000
LOCATION:Filmpodium\, Nüschelerstrasse 11\, 8001 Zürich
SEQUENCE:0
SUMMARY:Filmpodium - A Brighter Summer Day
UID:b783982d-8803-4b79-b382-e58e208fa78b
END:VEVENT
END:VCALENDAR
