BEGIN:VCALENDAR
METHOD:PUBLISH
PRODID:-//github.com/rianjs/ical.net//NONSGML ical.net 4.0//EN
VERSION:2.0
BEGIN:VEVENT
DESCRIPTION:Kinobesuch im Filmpodium\n\nA Confucian Confusion
DTEND:20260526T223500
DTSTAMP:20260422T094920Z
DTSTART:20260526T203000
LOCATION:Filmpodium\, Nüschelerstrasse 11\, 8001 Zürich
SEQUENCE:0
SUMMARY:Filmpodium - A Confucian Confusion
UID:632da818-e0eb-4a32-8e90-50d60861a1e1
END:VEVENT
END:VCALENDAR
