BEGIN:VCALENDAR
METHOD:PUBLISH
PRODID:-//github.com/rianjs/ical.net//NONSGML ical.net 4.0//EN
VERSION:2.0
BEGIN:VEVENT
DESCRIPTION:Kinobesuch im Filmpodium\n\nThe ʼBurbs
DTEND:20260513T164200
DTSTAMP:20260425T020227Z
DTSTART:20260513T150000
LOCATION:Filmpodium\, Nüschelerstrasse 11\, 8001 Zürich
SEQUENCE:0
SUMMARY:Filmpodium - The ʼBurbs
UID:54d8070e-a20a-4223-a2be-64c743c4f086
END:VEVENT
END:VCALENDAR
