BEGIN:VCALENDAR
METHOD:PUBLISH
PRODID:-//github.com/rianjs/ical.net//NONSGML ical.net 4.0//EN
VERSION:2.0
BEGIN:VEVENT
DESCRIPTION:Kinobesuch im Filmpodium\n\nSmall Soldiers
DTEND:20260507T201800
DTSTAMP:20260425T020049Z
DTSTART:20260507T183000
LOCATION:Filmpodium\, Nüschelerstrasse 11\, 8001 Zürich
SEQUENCE:0
SUMMARY:Filmpodium - Small Soldiers
UID:e6f950c6-7a50-4f5f-8d0e-19aa1a110af4
END:VEVENT
END:VCALENDAR
