BEGIN:VCALENDAR
METHOD:PUBLISH
PRODID:-//github.com/rianjs/ical.net//NONSGML ical.net 4.0//EN
VERSION:2.0
BEGIN:VEVENT
DESCRIPTION:Kinobesuch im Filmpodium\n\nCaravaggio
DTEND:20260507T163300
DTSTAMP:20260421T085441Z
DTSTART:20260507T150000
LOCATION:Filmpodium\, Nüschelerstrasse 11\, 8001 Zürich
SEQUENCE:0
SUMMARY:Filmpodium - Caravaggio
UID:c9040325-436d-4fbf-aab1-8062d6ccf894
END:VEVENT
END:VCALENDAR
