BEGIN:VCALENDAR
METHOD:PUBLISH
PRODID:-//github.com/rianjs/ical.net//NONSGML ical.net 4.0//EN
VERSION:2.0
BEGIN:VEVENT
DESCRIPTION:Kinobesuch im Filmpodium\n\nThe ʼBurbs
DTEND:20260428T224200
DTSTAMP:20260425T015705Z
DTSTART:20260428T210000
LOCATION:Filmpodium\, Nüschelerstrasse 11\, 8001 Zürich
SEQUENCE:0
SUMMARY:Filmpodium - The ʼBurbs
UID:c499e8cb-6364-41db-92d9-ad41c5803297
END:VEVENT
END:VCALENDAR
