BEGIN:VCALENDAR
METHOD:PUBLISH
PRODID:-//github.com/rianjs/ical.net//NONSGML ical.net 4.0//EN
VERSION:2.0
BEGIN:VEVENT
DESCRIPTION:Kinobesuch im Filmpodium\n\nClaireʼs Camera
DTEND:20260426T223000
DTSTAMP:20260425T130535Z
DTSTART:20260426T203000
LOCATION:Filmpodium\, Nüschelerstrasse 11\, 8001 Zürich
SEQUENCE:0
SUMMARY:Filmpodium - Claireʼs Camera
UID:0ca3aac0-d77f-45ed-8bbc-71e10873929c
END:VEVENT
END:VCALENDAR
