BEGIN:VCALENDAR
METHOD:PUBLISH
PRODID:-//github.com/rianjs/ical.net//NONSGML ical.net 4.0//EN
VERSION:2.0
BEGIN:VEVENT
DESCRIPTION:Kinobesuch im Filmpodium\n\nTwo Mountains Weighing Down My Che
 st
DTEND:20260426T200000
DTSTAMP:20260425T130259Z
DTSTART:20260426T180000
LOCATION:Filmpodium\, Nüschelerstrasse 11\, 8001 Zürich
SEQUENCE:0
SUMMARY:Filmpodium - Two Mountains Weighing Down My Chest
UID:ee1193ad-8697-4012-aaa7-a4972438a48b
END:VEVENT
END:VCALENDAR
