BEGIN:VCALENDAR
METHOD:PUBLISH
PRODID:-//github.com/rianjs/ical.net//NONSGML ical.net 4.0//EN
VERSION:2.0
BEGIN:VEVENT
DESCRIPTION:Kinobesuch im Filmpodium\n\nIl gattopardo
DTEND:20260425T210000
DTSTAMP:20260425T130438Z
DTSTART:20260425T190000
LOCATION:Filmpodium\, Nüschelerstrasse 11\, 8001 Zürich
SEQUENCE:0
SUMMARY:Filmpodium - Il gattopardo
UID:dc27101c-db9e-42a5-8603-b97558fcd779
END:VEVENT
END:VCALENDAR
