BEGIN:VCALENDAR
METHOD:PUBLISH
PRODID:-//github.com/rianjs/ical.net//NONSGML ical.net 4.0//EN
VERSION:2.0
BEGIN:VEVENT
DESCRIPTION:Kinobesuch im Filmpodium\n\nThe Novelistʼs Film
DTEND:20260423T224500
DTSTAMP:20260422T123554Z
DTSTART:20260423T204500
LOCATION:Filmpodium\, Nüschelerstrasse 11\, 8001 Zürich
SEQUENCE:0
SUMMARY:Filmpodium - The Novelistʼs Film
UID:24bbb8d2-47b6-491c-b6e4-fbdfcedf98ac
END:VEVENT
END:VCALENDAR
