BEGIN:VCALENDAR
METHOD:PUBLISH
PRODID:-//github.com/rianjs/ical.net//NONSGML ical.net 4.0//EN
VERSION:2.0
BEGIN:VEVENT
DESCRIPTION:Kinobesuch im Filmpodium\n\nNella città lʼinferno
DTEND:20260423T170000
DTSTAMP:20260422T123554Z
DTSTART:20260423T150000
LOCATION:Filmpodium\, Nüschelerstrasse 11\, 8001 Zürich
SEQUENCE:0
SUMMARY:Filmpodium - Nella città lʼinferno
UID:084ab055-cc33-4cd7-91ca-4893ca5a6d69
END:VEVENT
END:VCALENDAR
