BEGIN:VCALENDAR
METHOD:PUBLISH
PRODID:-//github.com/rianjs/ical.net//NONSGML ical.net 4.0//EN
VERSION:2.0
BEGIN:VEVENT
DESCRIPTION:Kinobesuch im Filmpodium\n\nLadri di biciclette
DTEND:20260422T221500
DTSTAMP:20260421T103834Z
DTSTART:20260422T201500
LOCATION:Filmpodium\, Nüschelerstrasse 11\, 8001 Zürich
SEQUENCE:0
SUMMARY:Filmpodium - Ladri di biciclette
UID:490037c3-30c3-4cdb-a38c-42afaa0f20e1
END:VEVENT
END:VCALENDAR
