BEGIN:VCALENDAR
METHOD:PUBLISH
PRODID:-//github.com/rianjs/ical.net//NONSGML ical.net 4.0//EN
VERSION:2.0
BEGIN:VEVENT
DESCRIPTION:Kinobesuch im Filmpodium\n\nRight Now\, Wrong Then
DTEND:20260422T170000
DTSTAMP:20260421T104055Z
DTSTART:20260422T150000
LOCATION:Filmpodium\, Nüschelerstrasse 11\, 8001 Zürich
SEQUENCE:0
SUMMARY:Filmpodium - Right Now\, Wrong Then
UID:3af36d22-c4b6-41dd-a1d5-d835fd7777d0
END:VEVENT
END:VCALENDAR
