BEGIN:VCALENDAR
METHOD:PUBLISH
PRODID:-//github.com/rianjs/ical.net//NONSGML ical.net 4.0//EN
VERSION:2.0
BEGIN:VEVENT
DESCRIPTION:Kinobesuch im Filmpodium\n\nin water
DTEND:20260421T214600
DTSTAMP:20260420T025556Z
DTSTART:20260421T204500
LOCATION:Filmpodium\, Nüschelerstrasse 11\, 8001 Zürich
SEQUENCE:0
SUMMARY:Filmpodium - in water
UID:79665491-37f6-4771-9f58-7319d06c8ee9
END:VEVENT
END:VCALENDAR
