BEGIN:VCALENDAR
METHOD:PUBLISH
PRODID:-//github.com/rianjs/ical.net//NONSGML ical.net 4.0//EN
VERSION:2.0
BEGIN:VEVENT
DESCRIPTION:Kinobesuch im Filmpodium\n\nLes plages dʼAgnès
DTEND:20260421T203000
DTSTAMP:20260420T013004Z
DTSTART:20260421T183000
LOCATION:Filmpodium\, Nüschelerstrasse 11\, 8001 Zürich
SEQUENCE:0
SUMMARY:Filmpodium - Les plages dʼAgnès
UID:74fd0f7d-51a6-4b64-88fc-3a61fc258969
END:VEVENT
END:VCALENDAR
