BEGIN:VCALENDAR
METHOD:PUBLISH
PRODID:-//github.com/rianjs/ical.net//NONSGML ical.net 4.0//EN
VERSION:2.0
BEGIN:VEVENT
DESCRIPTION:Kinobesuch im Filmpodium\n\nUne flamme dans mon cœur
DTEND:20230417T230000
DTSTAMP:20260420T200716Z
DTSTART:20230417T210000
LOCATION:Filmpodium\, Nüschelerstrasse 11\, 8001 Zürich
SEQUENCE:0
SUMMARY:Filmpodium - Une flamme dans mon cœur
UID:5022082a-77c9-4129-a7b9-a9a51c7a88d4
END:VEVENT
END:VCALENDAR
