BEGIN:VCALENDAR
METHOD:PUBLISH
PRODID:-//github.com/rianjs/ical.net//NONSGML ical.net 4.0//EN
VERSION:2.0
BEGIN:VEVENT
DESCRIPTION:Kinobesuch im Filmpodium\n\nSaint Omer
DTEND:20230417T203000
DTSTAMP:20260420T201114Z
DTSTART:20230417T183000
LOCATION:Filmpodium\, Nüschelerstrasse 11\, 8001 Zürich
SEQUENCE:0
SUMMARY:Filmpodium - Saint Omer
UID:8944cf60-7060-4e3d-880f-01b47f94440b
END:VEVENT
END:VCALENDAR
