BEGIN:VCALENDAR
METHOD:PUBLISH
PRODID:-//github.com/rianjs/ical.net//NONSGML ical.net 4.0//EN
VERSION:2.0
BEGIN:VEVENT
DESCRIPTION:Kinobesuch im Filmpodium\n\nThe Only Son
DTEND:20230416T201500
DTSTAMP:20260420T195955Z
DTSTART:20230416T181500
LOCATION:Filmpodium\, Nüschelerstrasse 11\, 8001 Zürich
SEQUENCE:0
SUMMARY:Filmpodium - The Only Son
UID:ecd870a2-e2b6-4de5-aa83-cfca5a5866ff
END:VEVENT
END:VCALENDAR
