BEGIN:VCALENDAR
METHOD:PUBLISH
PRODID:-//github.com/rianjs/ical.net//NONSGML ical.net 4.0//EN
VERSION:2.0
BEGIN:VEVENT
DESCRIPTION:Kinobesuch im Filmpodium\n\nLe Milieu du monde
DTEND:20230416T170000
DTSTAMP:20260420T200359Z
DTSTART:20230416T150000
LOCATION:Filmpodium\, Nüschelerstrasse 11\, 8001 Zürich
SEQUENCE:0
SUMMARY:Filmpodium - Le Milieu du monde
UID:58f4d2a3-658c-401b-8b0e-cca572dbfebb
END:VEVENT
END:VCALENDAR
