BEGIN:VCALENDAR
METHOD:PUBLISH
PRODID:-//github.com/rianjs/ical.net//NONSGML ical.net 4.0//EN
VERSION:2.0
BEGIN:VEVENT
DESCRIPTION:Kinobesuch im Filmpodium\n\nInterstellar
DTEND:20230408T221500
DTSTAMP:20260420T185439Z
DTSTART:20230408T201500
LOCATION:Filmpodium\, Nüschelerstrasse 11\, 8001 Zürich
SEQUENCE:0
SUMMARY:Filmpodium - Interstellar
UID:08bbe46e-f135-4be5-94db-9c9d445e9e72
END:VEVENT
END:VCALENDAR
