BEGIN:VCALENDAR
METHOD:PUBLISH
PRODID:-//github.com/rianjs/ical.net//NONSGML ical.net 4.0//EN
VERSION:2.0
BEGIN:VEVENT
DESCRIPTION:Kinobesuch im Filmpodium\n\nLight Years Away
DTEND:20230408T200000
DTSTAMP:20260420T185530Z
DTSTART:20230408T180000
LOCATION:Filmpodium\, Nüschelerstrasse 11\, 8001 Zürich
SEQUENCE:0
SUMMARY:Filmpodium - Light Years Away
UID:30f67c97-b01a-4683-80ef-50af9825a5f7
END:VEVENT
END:VCALENDAR
