BEGIN:VCALENDAR
METHOD:PUBLISH
PRODID:-//github.com/rianjs/ical.net//NONSGML ical.net 4.0//EN
VERSION:2.0
BEGIN:VEVENT
DESCRIPTION:Kinobesuch im Filmpodium\n\nCall Me by Your Name
DTEND:20230407T224500
DTSTAMP:20260420T185606Z
DTSTART:20230407T204500
LOCATION:Filmpodium\, Nüschelerstrasse 11\, 8001 Zürich
SEQUENCE:0
SUMMARY:Filmpodium - Call Me by Your Name
UID:e36d1dc8-9272-4a89-81ae-b25eb7f1ecc9
END:VEVENT
END:VCALENDAR
